{"text_format":"1","workbook":"xlsx","n_sheets":10,"sheets":["Tutti","IDRICI","PASSIVA","ATTIVA","IMPIANTI","Tabella 1","Tabella 2","Tabella 3","Tabella 4","si-no"],"not_rendered":{"charts":0,"images":0,"macros":1,"external_links":0,"defined_names":2,"comments":0,"pivot_tables":0},"unopened":[],"bounds":{"document_bytes":16777216,"sheet_cells":100000,"rows_first":2000,"rows_last":500,"rows_between":2000,"halvings":0,"cell_chars":16384,"cell_head_chars":4096},"cells_cut":0,"cells_raw":0,"read":"whole","date_system":"1900"}

{"sheet":"Tutti","index":0,"n_rows":114,"n_cols":12,"rows_kept":114,"cut":false,"hidden":false,"merged":[[1,9,1,11],[2,10,2,11],[3,10,3,11],[2,3,2,8],[1,3,1,8],[3,3,3,8],[111,1,111,11],[4,8,4,11],[110,1,110,11],[109,1,109,11],[61,1,89,1],[4,3,4,7],[27,3,27,4],[31,3,31,4],[104,3,104,5],[113,1,113,11],[5,1,23,1],[91,1,97,1],[25,1,59,1],[97,3,97,4],[55,3,55,4],[47,3,47,4],[35,3,35,4],[39,3,39,4],[43,3,43,4],[51,3,51,4],[59,3,59,4],[93,3,93,4],[102,3,102,5],[105,3,105,5],[101,1,105,1]]}
[]
[null,null,null,"DIREZIONE LAVORI ANTINCENDIO vers. 2026",null,null,null,null,null,"indice Istat"]
[null,null,null,"Inserire i valori Istat attuali nelle celle verdi qui a lato. ",null,null,null,null,null," anno 1995","gennaio 2026"]
[null,null,null,"Solo le celle verdi, arancioni ed azzurre sono attive, tutte le altre sono bloccate",null,null,null,null,null,100,121.8]
[null,null,null,"Inserire l'estensione della area o degli elementi nella cella verde: si otterrà una stima del CP, scegliere se vi è collaudo tecnico funzionale per DM 37/08* nella cella arancione",null,null,null,null,"Inserire Valore V a consuntivo nella cella blu: si avrà il CP corrispondente, scegliere se vi è collaudo tecnico funzionale per DM 37/08*cella arancione"]
[null,"IMPIANTI",null,"IMPIANTI EFC","m2","Superfice servita","V","CP","VALORE consuntivo","CP"]
[null,null,null,null,null,"importo stima",{"$f":"IMPIANTI!B5","v":0},{"$f":"IF(F8=\"si\",IMPIANTI!B8,IMPIANTI!D8)","v":0},null,{"$f":"IF(F8=\"si\",IMPIANTI!C8,IMPIANTI!E8)","v":0},"MAX CP",{"$f":"MAX(H7,J7)","v":0}]
[null,null,null,"collaudo tecnico funzionale DM 37/08*",null,"si"]
[]
[null,null,null,"IMPIANTI IRAI","m2","Superfice servita","V","CP","VALORE consuntivo","CP"]
[null,null,null,null,null,"importo stima",{"$f":"IMPIANTI!B13","v":0},{"$f":"IF(F12=\"si\",IMPIANTI!B16,IMPIANTI!D16)","v":0},null,{"$f":"IF(F12=\"si\",IMPIANTI!C16,IMPIANTI!E16)","v":0},"MAX CP",{"$f":"MAX(H11,J11)","v":0}]
[null,null,null,"collaudo tecnico funzionale DM 37/08*",null,"si"]
[]
[null,null,null,"IMPIANTI EVAC","m2","Superfice servita","V","CP","VALORE consuntivo","CP"]
[null,null,null,null,null,"importo stima",{"$f":"IMPIANTI!B21","v":0},{"$f":"IF(F16=\"si\",IMPIANTI!B24,IMPIANTI!D24)","v":0},null,{"$f":"IF(F16=\"si\",IMPIANTI!C24,IMPIANTI!E24)","v":0},"MAX CP",{"$f":"MAX(H15,J15)","v":0}]
[null,null,null,"collaudo tecnico funzionale DM 37/08*",null,"si"]
[]
[null,null,null,"G.ELETTROGENO","kVA","Potenza fornita","V","CP","VALORE consuntivo","CP"]
[null,null,null,null,null,"importo stima",{"$f":"IMPIANTI!B29","v":0},{"$f":"IF(F20=\"si\",IMPIANTI!B32,IMPIANTI!D32)","v":0},null,{"$f":"IF(F20=\"si\",IMPIANTI!C32,IMPIANTI!E32)","v":0},"MAX CP",{"$f":"MAX(H19,J19)","v":0}]
[null,null,null,"collaudo tecnico funzionale DM 37/08*",null,"si"]
[]
[null,null,null,"FOTOVOLTAICO","kW","Potenza fornita","V","CP","VALORE consuntivo","CP"]
[null,null,null,null,null,"importo stima",{"$f":"IMPIANTI!B37","v":0},{"$f":"IF(F24=\"si\",IMPIANTI!B40,IMPIANTI!D40)","v":0},null,{"$f":"IF(F24=\"si\",IMPIANTI!C40,IMPIANTI!E40)","v":0},"MAX CP",{"$f":"MAX(H23,J23)","v":0}]
[null,null,null,"collaudo tecnico funzionale DM 37/08*",null,"si"]
[]
[null,"IMPIANTI IDRICI",null,"IDRANTI","n erogatori","UNI 45 UNI 70, AA","V","CP","VALORE consuntivo","CP"]
[null,null,null,null,15,"importo stima",{"$f":"IDRICI!B6","v":27658.536585365855},{"$f":"IF(F28=\"si\",IDRICI!B9,IDRICI!D9)","v":1440.015636075377},22000,{"$f":"IF(F28=\"si\",IDRICI!C9,IDRICI!E9)","v":1185.4715343247774},"MAX CP",{"$f":"MAX(H27,J27)","v":1440.015636075377}]
[null,null,null,"collaudo tecnico funzionale DM 37/08*",null,"no"]
[]
[null,null,null,"SPK soffitto LH","m2","Superfice protetta","V","CP","VALORE consuntivo","CP"]
[null,null,null,null,null,"importo stima",{"$f":"IDRICI!B17","v":0},{"$f":"IF(F32=\"si\",IDRICI!B20,IDRICI!D20)","v":0},null,{"$f":"IF(F32=\"si\",IDRICI!C20,IDRICI!E20)","v":0},"MAX CP",{"$f":"MAX(H31,J31)","v":0}]
[null,null,null,"collaudo tecnico funzionale DM 37/08*",null,"si"]
[]
[null,null,null,"SPK soffitto OH","m2","Superfice protetta","V","CP","VALORE consuntivo","CP"]
[null,null,null,null,null,"importo stima",{"$f":"IDRICI!B28","v":0},{"$f":"IF(F36=\"si\",IDRICI!B31,IDRICI!D31)","v":0},null,{"$f":"IF(F36=\"si\",IDRICI!C31,IDRICI!E31)","v":0},"MAX CP",{"$f":"MAX(H35,J35)","v":0}]
[null,null,null,"collaudo tecnico funzionale DM 37/08*",null,"si"]
[]
[null,null,null,"SPK soffitto HH","m2","Superfice protetta","V","CP","VALORE consuntivo","CP"]
[null,null,null,null,null,"importo stima",{"$f":"IDRICI!B39","v":0},{"$f":"IF(F40=\"si\",IDRICI!B42,IDRICI!D42)","v":0},null,{"$f":"IF(F40=\"si\",IDRICI!C42,IDRICI!E42)","v":0},"MAX CP",{"$f":"MAX(H39,J39)","v":0}]
[null,null,null,"collaudo tecnico funzionale DM 37/08*",null,"si"]
[]
[null,null,null,"SPK soffitto ESFR","m2","Superfice protetta","V","CP","VALORE consuntivo","CP"]
[null,null,null,null,null,"importo stima",{"$f":"IDRICI!B50","v":0},{"$f":"IF(F44=\"si\",IDRICI!B53,IDRICI!D53)","v":0},null,{"$f":"IF(F44=\"si\",IDRICI!C53,IDRICI!E53)","v":0},"MAX CP",{"$f":"MAX(H43,J43)","v":0}]
[null,null,null,"collaudo tecnico funzionale DM 37/08*",null,"si"]
[]
[null,null,null,"SPK nei Rack","n.","Pallets","V","CP","VALORE consuntivo","CP"]
[null,null,null,null,null,"importo stima",{"$f":"IDRICI!B58","v":0},{"$f":"IF(F48=\"si\",IDRICI!B61,IDRICI!D61)","v":0},null,{"$f":"IF(F48=\"si\",IDRICI!C61,IDRICI!E61)","v":0},"MAX CP",{"$f":"MAX(H47,J47)","v":0}]
[null,null,null,"collaudo tecnico funzionale DM 37/08*",null,"si"]
[]
[null,null,null,"Gruppi pompe ","m3/h","valori > 50 m3/h","V","CP","VALORE consuntivo","CP"]
[null,null,null,"1 endo + elet + jockey",null,"importo stima",{"$f":"IDRICI!B66","v":0},{"$f":"IF(F52=\"si\",IDRICI!B69,IDRICI!D69)","v":0},null,{"$f":"IF(F52=\"si\",IDRICI!C69,IDRICI!E69)","v":0},"MAX CP",{"$f":"MAX(H51,J51)","v":0}]
[null,null,null,"collaudo tecnico funzionale DM 37/08*",null,"si"]
[]
[null,null,null,"Gruppi pompe","m3/h","valori > 50 m3/h","V","CP","VALORE consuntivo","CP"]
[null,null,null,"2 endo + jockey",null,"importo stima",{"$f":"IDRICI!B74","v":0},{"$f":"IF(F56=\"si\",IDRICI!B77,IDRICI!D77)","v":0},null,{"$f":"IF(F56=\"si\",IDRICI!C77,IDRICI!E77)","v":0},"MAX CP",{"$f":"MAX(H55,J55)","v":0}]
[null,null,null,"collaudo tecnico funzionale DM 37/08*",null,"si"]
[]
[null,null,null,"Serbatoi idrici","m3","valori > 100 m3","V","CP","VALORE consuntivo","CP"]
[null,null,null,"cilindrici esterni",null,"importo stima",{"$f":"IDRICI!B82","v":0},{"$f":"IF(F60=\"si\",IDRICI!B85,IDRICI!D85)","v":0},null,{"$f":"IF(F60=\"si\",IDRICI!C85,IDRICI!E85)","v":0},"MAX CP",{"$f":"MAX(H59,J59)","v":0}]
[null,null,null,"collaudo tecnico funzionale DM 37/08*",null,"si"]
[]
[null,"PROTEZIONE PASSSIVA",null,"STRUTTURE REI","n.","Elementi strutturali","V","CP","VALORE consuntivo","CP"]
[null,null,null,"VERIFICA POSA",null,"importo stima",{"$f":"PASSIVA!B5","v":0},{"$f":"PASSIVA!B8","v":0},null,{"$f":"PASSIVA!C8","v":0},"MAX CP",{"$f":"MAX(H63,J63)","v":0}]
[]
[null,null,null,"PARETI REI","m2","Superfice protetta","V","CP","VALORE consuntivo","CP"]
[null,null,null,null,null,"importo stima",{"$f":"PASSIVA!B13","v":0},{"$f":"PASSIVA!B16","v":0},null,{"$f":"PASSIVA!C16","v":0},"MAX CP",{"$f":"MAX(H66,J66)","v":0}]
[]
[null,null,null,"SOFFITTI REI","m2","Superfice protetta","V","CP","VALORE consuntivo","CP"]
[null,null,null,null,null,"importo stima",{"$f":"PASSIVA!B21","v":0},{"$f":"PASSIVA!B24","v":0},null,{"$f":"PASSIVA!C24","v":0},"MAX CP",{"$f":"MAX(H69,J69)","v":0}]
[]
[null,null,null,"PORTE REI","n","Numero porte","V","CP","VALORE consuntivo","CP"]
[null,null,null,null,null,"importo stima",{"$f":"PASSIVA!B29","v":0},{"$f":"PASSIVA!B32","v":0},null,{"$f":"PASSIVA!C32","v":0},"MAX CP",{"$f":"MAX(H72,J72)","v":0}]
[]
[null,null,null,"TRANSITI","n","Numero sigillature","V","CP","VALORE consuntivo","CP"]
[null,null,null,"SIGILLATURE",null,"importo stima",{"$f":"PASSIVA!B37","v":0},{"$f":"PASSIVA!B40","v":0},null,{"$f":"PASSIVA!C40","v":0},"MAX CP",{"$f":"MAX(H75,J75)","v":0}]
[]
[null,null,null,"TRANSITI","n","Numero manicotti","V","CP","VALORE consuntivo","CP"]
[null,null,null,"MANICOTTI",null,"importo stima",{"$f":"PASSIVA!B45","v":0},{"$f":"PASSIVA!B48","v":0},null,{"$f":"PASSIVA!C48","v":0},"MAX CP",{"$f":"MAX(H78,J78)","v":0}]
[]
[null,null,null,"PROTEZIONI REI","m2","Superfice protetta","V","CP","VALORE consuntivo","CP"]
[null,null,null,null,null,"importo stima",{"$f":"PASSIVA!B53","v":0},{"$f":"PASSIVA!B56","v":0},null,{"$f":"PASSIVA!C56","v":0},"MAX CP",{"$f":"MAX(H81,J81)","v":0}]
[]
[null,null,null,"REAZIONE","m2","Superfice protetta","V","CP","VALORE consuntivo","CP"]
[null,null,null,"Alberghi, Biblioteca, Manut.Straord, Hotel, Uffici.",null,"importo stima",{"$f":"PASSIVA!B62","v":0},{"$f":"PASSIVA!B65","v":0},null,{"$f":"PASSIVA!C65","v":0},"MAX CP",{"$f":"MAX(H84,J84)","v":0}]
[]
[null,null,null,"REAZIONE","m2","Superfice protetta","V","CP","VALORE consuntivo","CP"]
[null,null,null,"Edifici civ., Negozi, Supermer, Pensioni, Residenze",null,"importo stima",{"$f":"PASSIVA!B71","v":0},{"$f":"PASSIVA!B74","v":0},null,{"$f":"PASSIVA!C74","v":0},"MAX CP",{"$f":"MAX(H87,J87)","v":0}]
[]
[null,null,null,"REAZIONE","m2","Superfice protetta","V","CP","VALORE consuntivo","CP"]
[null,null,null,"Sanità",null,"importo stima",{"$f":"PASSIVA!B79","v":0},{"$f":"PASSIVA!B82","v":0},null,{"$f":"PASSIVA!C82","v":0},"MAX CP",{"$f":"MAX(H90,J90)","v":0}]
[]
[null,"PROTEZIONE ATTIVA",null,"PORTE REI","n","Numero porte","V","CP","VALORE consuntivo","CP"]
[null,null,null,"CHIUSURA Irai",null,"importo stima",{"$f":"ATTIVA!B5","v":0},{"$f":"IF(F94=\"si\",ATTIVA!B8,ATTIVA!D8)","v":0},null,{"$f":"IF(F94=\"si\",ATTIVA!C8,ATTIVA!E8)","v":0},"MAX CP",{"$f":"MAX(H93,J93)","v":0}]
[null,null,null,"collaudo tecnico funzionale DM 37/08*",null,"si"]
[]
[null,null,null,"SERRANDE EI","n","Numero serrande","V","CP","VALORE consuntivo","CP"]
[null,null,null,"Motorizzate",null,"importo stima",{"$f":"ATTIVA!B13","v":0},{"$f":"IF(F98=\"si\",ATTIVA!B16,ATTIVA!D16)","v":0},null,{"$f":"IF(F98=\"si\",ATTIVA!C16,ATTIVA!E16)","v":0},"MAX CP",{"$f":"MAX(H97,J97)","v":0}]
[null,null,null,"collaudo tecnico funzionale DM 37/08*",null,"si"]
[]
[null,null,null,null,null,null,"PREVENT.",{"$f":"SUM(H7:H99)","v":1440.015636075377},"CONSUNTIVO",{"$f":"SUM(J7:J99)","v":1185.4715343247774},"MAX",{"$f":"SUM(L7:L99)","v":1440.015636075377}]
[]
[null,"ONERI\n DISCREZIONALI"]
[null,null,null,"Trasferta ed oneri viaggio                                -valore minimo ",null,null,{"$f":"200*K4/118.9","v":204.8780487804878},0,null,null,null,{"$f":"IF(L100=0,0,MAX(G103,H103))","v":204.8780487804878}]
[]
[null,null,null,"Predisposzione documentazione amministrativa, inoltro e"]
[null,null,null,"alla Committenza                                              -valore minimo ",null,null,{"$f":"300*K4/118.9","v":307.3170731707317},0,null,null,null,{"$f":"IF(L100=0,0,MAX(G106,H106))","v":307.3170731707317}]
[]
[null,null,null,null,null,null,"TOTALE PREVENT.",{"$f":"SUM(H100:H106)","v":1440.015636075377},"TOTALE CONSUTIVO CP ",{"$f":"J100+L103+L106","v":1697.6666562759967},"TOTALE MAX CP",{"$f":"L100+L103+L106","v":1952.2107580265963}]
[]
[null,"* Il Corrispettivo  CP si riferisce per appalti pubblici – nei limiti della soglia prevista dal Dlgs 36/2023 - in cui, in assenza di contenzioso tra Impresa"]
[null,"appaltatrice  e/o altri soggetti coinvolti e il Direttore dei lavori, quest'ultimo potrà emettere il “Certificato di regolare esecuzione” (CRE), quale documento"]
[null,"documento ufficiale che attesta la corretta esecuzione di uno specifico appalto di lavori pubblici, servizi e/o forniture."]
[]
[null,"CP.F2.VVF.2026.xlsm: Milano: documento approvato nel 2023 dalla Commissione Sicurezza Antincendio dell’Ordine Ingegneri di Milano; approvato nel 2023 dalla Commissione Pareri dell'Ordine Ingegneri di Milano e adottato dal Consiglio Ordine Ingegneri di Milano  nella seduta del 17.1.2024. Aggiornamento 2025 deliberato nella riunione del Consiglio Ordine Ingegneri di Milano il 7.5.2025 e successivamente nella seduta del 26.11.2025 con approvazione del 23.12.2025.\t\t"]

{"sheet":"IDRICI","index":1,"n_rows":85,"n_cols":5,"rows_kept":85,"cut":false,"hidden":true,"merged":[[67,3,67,4],[75,3,75,4],[83,3,83,4],[7,3,7,4],[18,3,18,4],[29,3,29,4],[40,3,40,4],[51,3,51,4],[59,3,59,4]]}
["coef. Agg. Istat.",{"$f":"Tutti!K4/118.9","v":1.024390243902439}]
["IDRANTI","n"]
[]
[null,{"$f":"Tutti!E27","v":15}]
["V unitario",{"$f":"IF(B4<10,2000,IF(B4<20, 1800,1500))","v":1800}]
["V totale ",{"$f":"B5*B4*B1","v":27658.536585365855},{"$f":"Tutti!I27","v":22000}]
["G",{"$f":"'Tabella 4'!P20","v":0.35519999999999996},{"$f":"'Tabella 4'!P19","v":0.21119999999999997}]
["P",{"$f":"IF(B6<25000,0.03+10/(25000^0.4),0.03+10/(B6^0.4))","v":0.19721233859457826},{"$f":"IF(C6<25000,0.03+10/(25000^0.4),0.03+10/(C6^0.4))","v":0.20411011265922477},"no collaudo"]
["CP",{"$f":"B6*B7*B8*1.25","v":2421.8444788540432},{"$f":"C6*B7*B8*1.25","v":1926.3701233918403},{"$f":"B6*C7*B8*1.25","v":1440.015636075377},{"$f":"C6*C7*C8*1.25","v":1185.4715343247774}]
[]
["SPK soffitto LH","mq"]
[null,{"$f":"Tutti!E31","v":0}]
["Staz.Contr.",{"$f":"IF(B12=0,0,IF(B12<10000,1,INT(B12/10000+0.9)))","v":0}]
["V tot.Staz.Contr.",{"$f":"B13*5000","v":0}]
["V unitario SPK",200]
["V totale SPK",{"$f":"B12/20*B15","v":0}]
["V totale  SC+ SPK",{"$f":"(B16+B14)*B1","v":0},{"$f":"Tutti!I31","v":0}]
["G",{"$f":"'Tabella 4'!P20","v":0.35519999999999996},{"$f":"'Tabella 4'!P19","v":0.21119999999999997}]
["P",{"$f":"IF(B17<25000,0.03+10/(25000^0.4),0.03+10/(B17^0.4))","v":0.20411011265922477},{"$f":"IF(C17<25000,0.03+10/(25000^0.4),0.03+10/(C17^0.4))","v":0.20411011265922477},"no collaudo"]
["CP",{"$f":"B17*B18*B19*1.25","v":0},{"$f":"C17*B18*C19*1.25","v":0},{"$f":"B17*C18*B19*1.25","v":0},{"$f":"C17*C18*C19*1.25","v":0}]
[]
["SPK soffitto OH","mq"]
[null,{"$f":"Tutti!E35","v":0}]
["Staz.Contr.",{"$f":"IF(B23=0,0,IF(B23<10000,1,INT(B23/10000+0.9)))","v":0}]
["V tot.Staz.Contr.",{"$f":"B24*5000","v":0}]
["V unitario SPK",200]
["V totale SPK",{"$f":"B23/12*B26","v":0}]
["V totale  SC+ SPK",{"$f":"(B27+B25)*B1","v":0},{"$f":"Tutti!I35","v":0}]
["G",{"$f":"'Tabella 4'!P20","v":0.35519999999999996},{"$f":"'Tabella 4'!P19","v":0.21119999999999997}]
["P",{"$f":"IF(B28<25000,0.03+10/(25000^0.4),0.03+10/(B28^0.4))","v":0.20411011265922477},{"$f":"IF(C28<25000,0.03+10/(25000^0.4),0.03+10/(C28^0.4))","v":0.20411011265922477},"no collaudo"]
["CP",{"$f":"B28*B29*B30*1.25","v":0},{"$f":"C28*B29*C30*1.25","v":0},{"$f":"B28*C29*B30*1.25","v":0},{"$f":"C28*C29*C30*1.25","v":0}]
[]
["SPK soffitto HH","mq"]
[null,{"$f":"Tutti!E39","v":0}]
["Staz.Contr.",{"$f":"IF(B34=0,0,IF(B34<10000,1,INT(B34/10000+0.9)))","v":0}]
["V tot.Staz.Contr.",{"$f":"B35*5000","v":0}]
["V unitario SPK",200]
["V totale SPK",{"$f":"B34/9*B37","v":0}]
["V totale  SC+ SPK",{"$f":"(B38+B36)*B1","v":0},{"$f":"Tutti!I39","v":0}]
["G",{"$f":"'Tabella 4'!P20","v":0.35519999999999996},{"$f":"'Tabella 4'!P19","v":0.21119999999999997}]
["P",{"$f":"IF(B39<25000,0.03+10/(25000^0.4),0.03+10/(B39^0.4))","v":0.20411011265922477},{"$f":"IF(C39<25000,0.03+10/(25000^0.4),0.03+10/(C39^0.4))","v":0.20411011265922477},"no collaudo"]
["CP",{"$f":"B39*B40*B41*1.25","v":0},{"$f":"C39*B40*C41*1.25","v":0},{"$f":"B39*C40*B41*1.25","v":0},{"$f":"C39*C40*C41*1.25","v":0}]
[]
["SPK soffitto ESFR","mq"]
[null,{"$f":"Tutti!E43","v":0}]
["Staz.Contr.",{"$f":"IF(B45=0,0,IF(B45<10000,1,INT(B45/10000+0.9)))","v":0}]
["V tot.Staz.Contr.",{"$f":"B46*5000","v":0}]
["V unitario SPK",250]
["V totale SPK",{"$f":"B45/9*B48","v":0}]
["V totale  SC+ SPK",{"$f":"(B49+B47)*B1","v":0},{"$f":"Tutti!I43","v":0}]
["G",{"$f":"'Tabella 4'!P20","v":0.35519999999999996},{"$f":"'Tabella 4'!P19","v":0.21119999999999997}]
["P",{"$f":"IF(B50<25000,0.03+10/(25000^0.4),0.03+10/(B50^0.4))","v":0.20411011265922477},{"$f":"IF(C50<25000,0.03+10/(25000^0.4),0.03+10/(C50^0.4))","v":0.20411011265922477},"no collaudo"]
["CP",{"$f":"B50*B51*B52*1.25","v":0},{"$f":"C50*B51*C52*1.25","v":0},{"$f":"B50*C51*B52*1.25","v":0},{"$f":"C50*C51*C52*1.25","v":0}]
[]
["SPK nei  Rack","n. pallets"]
[null,{"$f":"Tutti!E47","v":0}]
["V unitario SPK",100]
["V totale SPK",{"$f":"B56*B57*B1","v":0},{"$f":"Tutti!I47","v":0}]
["G",{"$f":"'Tabella 4'!P20","v":0.35519999999999996},{"$f":"'Tabella 4'!P19","v":0.21119999999999997}]
["P",{"$f":"IF(B58<25000,0.03+10/(25000^0.4),0.03+10/(B58^0.4))","v":0.20411011265922477},{"$f":"IF(C58<25000,0.03+10/(25000^0.4),0.03+10/(C58^0.4))","v":0.20411011265922477},"no collaudo"]
["CP",{"$f":"B58*B59*B60*1.25","v":0},{"$f":"C58*B59*C60*1.25","v":0},{"$f":"B58*C59*B60*1.25","v":0},{"$f":"C58*C59*C60*1.25","v":0}]
[]
["Gruppi pompe ","m3/h >50"]
["1 endo + elet + jokey",{"$f":"Tutti!E51","v":0}]
[]
["V totale ",{"$f":"IF(B64<50,0,IF(B64=50,77,IF(B64=450,77+0.185*(B64-50),77+0.24*(B64-50))))*1000","v":0},{"$f":"Tutti!I51","v":0}]
["G",{"$f":"'Tabella 4'!P20","v":0.35519999999999996},{"$f":"'Tabella 4'!P19","v":0.21119999999999997}]
["P",{"$f":"IF(B66<25000,0.03+10/(25000^0.4),0.03+10/(B66^0.4))","v":0.20411011265922477},{"$f":"IF(C66<25000,0.03+10/(25000^0.4),0.03+10/(C66^0.4))","v":0.20411011265922477},"no collaudo"]
["CP",{"$f":"B66*B67*B68*1.25","v":0},{"$f":"C66*B67*C68*1.25","v":0},{"$f":"B66*C67*B68*1.25","v":0},{"$f":"C66*C67*C68*1.25","v":0}]
[]
["Gruppi pompe ","m3/h > 50"]
["2 endo + jokey",{"$f":"Tutti!E55","v":0}]
[]
["V totale ",{"$f":"IF(B72<50,0,IF(B72=50,80,IF(B72=450,80+0.185*(B72-50),80+0.24*(B72-50))))*1000","v":0},{"$f":"Tutti!I55","v":0}]
["G",{"$f":"'Tabella 4'!P20","v":0.35519999999999996},{"$f":"'Tabella 4'!P19","v":0.21119999999999997}]
["P",{"$f":"IF(B74<25000,0.03+10/(25000^0.4),0.03+10/(B74^0.4))","v":0.20411011265922477},{"$f":"IF(C74<25000,0.03+10/(25000^0.4),0.03+10/(C74^0.4))","v":0.20411011265922477},"no collaudo"]
["CP",{"$f":"B74*B75*B76*1.25","v":0},{"$f":"C74*B75*C76*1.25","v":0},{"$f":"B74*C75*B76*1.25","v":0},{"$f":"C74*C75*C76*1.25","v":0}]
[]
["Serbatoi idrici","m3 > 100"]
["cilindrici esterni",{"$f":"Tutti!E59","v":0}]
[]
["V totale ",{"$f":"IF(B80<100,0,IF(B80=100,50,IF(B80=500,87,50+0.092*(B80-100))))*1000","v":0},{"$f":"Tutti!I59","v":0}]
["G",{"$f":"'Tabella 4'!P20","v":0.35519999999999996},{"$f":"'Tabella 4'!P19","v":0.21119999999999997}]
["P",{"$f":"IF(B82<25000,0.03+10/(25000^0.4),0.03+10/(B82^0.4))","v":0.20411011265922477},{"$f":"IF(C82<25000,0.03+10/(25000^0.4),0.03+10/(C82^0.4))","v":0.20411011265922477},"no collaudo"]
["CP",{"$f":"B82*B83*B84*1.25","v":0},{"$f":"C82*B83*C84*1.25","v":0},{"$f":"B82*C83*B84*1.25","v":0},{"$f":"C82*C83*C84*1.25","v":0}]

{"sheet":"PASSIVA","index":2,"n_rows":82,"n_cols":3,"rows_kept":82,"cut":false,"hidden":true,"merged":[[58,0,58,1],[67,0,67,1]]}
["coef. Agg. Istat.",{"$f":"Tutti!K4/118.9","v":1.024390243902439}]
["STRUTTURE REI","n"]
["VERIFICA POSA",{"$f":"Tutti!E63","v":0}]
["Valore unitario",500]
["V totale",{"$f":"B4*B3*B1","v":0},{"$f":"Tutti!I63","v":0}]
["G",{"$f":"'Tabella 4'!P24","v":0.35189999999999988}]
["P",{"$f":"IF(B5<25000,0.03+10/(25000^0.4),0.03+10/(B5^0.4))","v":0.20411011265922477},{"$f":"IF(C5<25000,0.03+10/(25000^0.4),0.03+10/(C5^0.4))","v":0.20411011265922477}]
["CP",{"$f":"B5*B6*B7*1.25","v":0},{"$f":"C5*B6*C7*1.25","v":0}]
[]
["PARETI REI","mq"]
[null,{"$f":"Tutti!E66","v":0}]
["Valore unitario",{"$f":"IF(B11<10,200,IF(B11<100, 100,75))","v":200}]
["V totale ",{"$f":"B12*B11*B1","v":0},{"$f":"Tutti!I66","v":0}]
["G",{"$f":"'Tabella 4'!P24","v":0.35189999999999988}]
["P",{"$f":"IF(B13<25000,0.03+10/(25000^0.4),0.03+10/(B13^0.4))","v":0.20411011265922477},{"$f":"IF(C13<25000,0.03+10/(25000^0.4),0.03+10/(C13^0.4))","v":0.20411011265922477}]
["CP",{"$f":"B13*B14*B15*1.25","v":0},{"$f":"C13*B14*C15*1.25","v":0}]
[]
["SOFFITTI REI","mq"]
[null,{"$f":"Tutti!E69","v":0}]
["Valore unitario",{"$f":"IF(B19=0,0,IF(B19<100,200,150))","v":0}]
["V ",{"$f":"B20*B19*B1","v":0},{"$f":"Tutti!I69","v":0}]
["G",{"$f":"'Tabella 4'!P24","v":0.35189999999999988}]
["P",{"$f":"IF(B21<25000,0.03+10/(25000^0.4),0.03+10/(B21^0.4))","v":0.20411011265922477},{"$f":"IF(C21<25000,0.03+10/(25000^0.4),0.03+10/(C21^0.4))","v":0.20411011265922477}]
["CP",{"$f":"B21*B22*B23*1.25","v":0},{"$f":"C21*B22*C23*1.25","v":0}]
[]
["PORTE REI","n"]
[null,{"$f":"Tutti!E72","v":0}]
["Valore unitario",{"$f":"1000","v":1000}]
["V ",{"$f":"B28*B27*B1","v":0},{"$f":"Tutti!I72","v":0}]
["G",{"$f":"'Tabella 4'!P24","v":0.35189999999999988}]
["P",{"$f":"IF(B29<25000,0.03+10/(25000^0.4),0.03+10/(B29^0.4))","v":0.20411011265922477},{"$f":"IF(C29<25000,0.03+10/(25000^0.4),0.03+10/(C29^0.4))","v":0.20411011265922477}]
["CP",{"$f":"B29*B30*B31*1.25","v":0},{"$f":"C29*B30*C31*1.25","v":0}]
[]
["TRANSITI","n"]
["SIGILLATURE",{"$f":"Tutti!E75","v":0}]
["Valore unitario",{"$f":"IF(B35=0,0,IF(B35<10,120,IF(B35<100,60,50)))","v":0}]
["V totale ",{"$f":"B36*B35*B1","v":0},{"$f":"Tutti!I75","v":0}]
["G",{"$f":"'Tabella 4'!P24","v":0.35189999999999988}]
["P",{"$f":"IF(B37<25000,0.03+10/(25000^0.4),0.03+10/(B37^0.4))","v":0.20411011265922477},{"$f":"IF(C37<25000,0.03+10/(25000^0.4),0.03+10/(C37^0.4))","v":0.20411011265922477}]
["CP",{"$f":"B37*B38*B39*1.25","v":0},{"$f":"C37*B38*C39*1.25","v":0}]
[]
["TRANSITI","n"]
["MANICOTTI",{"$f":"Tutti!E78","v":0}]
["Valore unitario",200]
["V totale ",{"$f":"B44*B43*B1","v":0},{"$f":"Tutti!I78","v":0}]
["G",{"$f":"'Tabella 4'!P24","v":0.35189999999999988}]
["P",{"$f":"IF(B45<25000,0.03+10/(25000^0.4),0.03+10/(B45^0.4))","v":0.20411011265922477},{"$f":"IF(C45<25000,0.03+10/(25000^0.4),0.03+10/(C45^0.4))","v":0.20411011265922477}]
["CP",{"$f":"B45*B46*B47*1.25","v":0},{"$f":"C45*B46*C47*1.25","v":0}]
[]
["PROTEZIONE REI","mq"]
[null,{"$f":"Tutti!E81","v":0}]
["Valore unitario",300]
["V totale",{"$f":"B52*B51*B1","v":0},{"$f":"Tutti!I81","v":0}]
["G",{"$f":"'Tabella 4'!P24","v":0.35189999999999988}]
["P",{"$f":"IF(B53<25000,0.03+10/(25000^0.4),0.03+10/(B53^0.4))","v":0.20411011265922477},{"$f":"IF(C53<25000,0.03+10/(25000^0.4),0.03+10/(C53^0.4))","v":0.20411011265922477}]
["CP",{"$f":"B53*B54*B55*1.25","v":0},{"$f":"C53*B54*C55*1.25","v":0}]
[]
["REAZIONE FUOCO","mq"]
["Alberghi, Biblioteca, Manut.Straord, Hotel, Uffici."]
[null,{"$f":"Tutti!E84","v":0}]
["Valore unitario",70]
["V totale ",{"$f":"B61*B60*B1","v":0},{"$f":"Tutti!I84","v":0}]
["G",{"$f":"'Tabella 4'!P38","v":0.31679999999999992}]
["P",{"$f":"IF(B62<25000,0.03+10/(25000^0.4),0.03+10/(B62^0.4))","v":0.20411011265922477},{"$f":"IF(C62<25000,0.03+10/(25000^0.4),0.03+10/(C62^0.4))","v":0.20411011265922477}]
["CP",{"$f":"B62*B63*B64*1.25","v":0},{"$f":"C62*B63*C64*1.25","v":0}]
[]
["REAZIONE FUOCO","mq"]
["Edifici civ., Negozi, Supermer, Pensioni, Residenze"]
[null,{"$f":"Tutti!E87","v":0}]
["Valore unitario",70]
["V totale ",{"$f":"B70*B69*B1","v":0},{"$f":"Tutti!I87","v":0}]
["G",{"$f":"'Tabella 4'!P45","v":0.25079999999999997}]
["P",{"$f":"IF(B71<25000,0.03+10/(25000^0.4),0.03+10/(B71^0.4))","v":0.20411011265922477},{"$f":"IF(C71<25000,0.03+10/(25000^0.4),0.03+10/(C71^0.4))","v":0.20411011265922477}]
["CP",{"$f":"B71*B72*B73*1.25","v":0},{"$f":"C71*B72*C73*1.25","v":0}]
[]
["REAZIONE FUOCO","mq"]
["SANITA'",{"$f":"Tutti!E90","v":0}]
["Valore unitario",85]
["V totale ",{"$f":"B78*B77*B1","v":0},{"$f":"Tutti!I90","v":0}]
["G",{"$f":"'Tabella 4'!P50","v":0.34319999999999995}]
["P",{"$f":"IF(B79<25000,0.03+10/(25000^0.4),0.03+10/(B79^0.4))","v":0.20411011265922477},{"$f":"IF(C79<25000,0.03+10/(25000^0.4),0.03+10/(C79^0.4))","v":0.20411011265922477}]
["CP",{"$f":"B79*B80*B81*1.25","v":0},{"$f":"C79*B80*C81*1.25","v":0}]

{"sheet":"ATTIVA","index":3,"n_rows":16,"n_cols":5,"rows_kept":16,"cut":false,"hidden":true,"merged":[[14,3,14,4],[6,3,6,4]]}
["coef. Agg. Istat.",{"$f":"Tutti!K4/118.9","v":1.024390243902439}]
["PORTE REI","n"]
["CHIUSURA Irai",{"$f":"Tutti!E93","v":0}]
["Valore unitario",1200]
["V ",{"$f":"B4*B3*B1","v":0},{"$f":"Tutti!I93","v":0}]
["G",{"$f":"'Tabella 4'!P29","v":0.39959999999999996},{"$f":"'Tabella 4'!P28","v":0.23759999999999998}]
["P",{"$f":"IF(B5<25000,0.03+10/(25000^0.4),0.03+10/(B5^0.4))","v":0.20411011265922477},{"$f":"IF(C5<25000,0.03+10/(25000^0.4),0.03+10/(C5^0.4))","v":0.20411011265922477},"no collaudo"]
["CP",{"$f":"B5*B6*B7*1.25","v":0},{"$f":"C5*B6*C7*1.25","v":0},{"$f":"B5*C6*B7*1.25","v":0},{"$f":"C5*C6*C7*1.25","v":0}]
[]
["SERRANDE EI","n"]
[null,{"$f":"Tutti!E97","v":0}]
["Valore unitario",500]
["V totale",{"$f":"B12*B11*B1","v":0},{"$f":"Tutti!I97","v":0}]
["G",{"$f":"'Tabella 4'!P29","v":0.39959999999999996},{"$f":"'Tabella 4'!P28","v":0.23759999999999998}]
["P",{"$f":"IF(B13<25000,0.03+10/(25000^0.4),0.03+10/(B13^0.4))","v":0.20411011265922477},{"$f":"IF(C13<25000,0.03+10/(25000^0.4),0.03+10/(C13^0.4))","v":0.20411011265922477},"no collaudo"]
["CP",{"$f":"B13*B14*B15*1.25","v":0},{"$f":"C13*B14*C15*1.25","v":0},{"$f":"B13*C14*B15*1.25","v":0},{"$f":"C13*C14*C15*1.25","v":0}]

{"sheet":"IMPIANTI","index":4,"n_rows":40,"n_cols":5,"rows_kept":40,"cut":false,"hidden":true,"merged":[[6,3,6,4],[14,3,14,4],[22,3,22,4],[30,3,30,4],[38,3,38,4]]}
["coef. Agg. Istat.",{"$f":"Tutti!K4/118.9","v":1.024390243902439}]
["Impianti EFC","mq"]
[null,{"$f":"Tutti!E7","v":0}]
["V unitario",10]
["V totale ",{"$f":"B4*B3*B1","v":0},{"$f":"Tutti!I7","v":0}]
["G",{"$f":"'Tabella 4'!P10","v":0.37739999999999996},{"$f":"'Tabella 4'!P9","v":0.22439999999999996}]
["P",{"$f":"IF(B5<25000,0.03+10/(25000^0.4),0.03+10/(B5^0.4))","v":0.20411011265922477},{"$f":"IF(C5<25000,0.03+10/(25000^0.4),0.03+10/(C5^0.4))","v":0.20411011265922477},"no collaudo"]
["CP",{"$f":"B5*B6*B7*1.25","v":0},{"$f":"C5*B6*C7*1.25","v":0},{"$f":"B5*C6*B7*1.25","v":0},{"$f":"C5*C6*C7*1.25","v":0}]
[]
["IMPIANTI IRAI","mq"]
[null,{"$f":"Tutti!E11","v":0}]
["Valore unitario",20]
["V ",{"$f":"B12*B11*B1","v":0},{"$f":"Tutti!I11","v":0}]
["G",{"$f":"'Tabella 4'!P15","v":0.57719999999999994},{"$f":"'Tabella 4'!P14","v":0.34319999999999995}]
["P",{"$f":"IF(B13<25000,0.03+10/(25000^0.4),0.03+10/(B13^0.4))","v":0.20411011265922477},{"$f":"IF(C13<25000,0.03+10/(25000^0.4),0.03+10/(C13^0.4))","v":0.20411011265922477},"no collaudo"]
["CP",{"$f":"B13*B14*B15*1.25","v":0},{"$f":"C13*B14*C15*1.25","v":0},{"$f":"B13*C14*B15*1.25","v":0},{"$f":"C13*C14*C15*1.25","v":0}]
[]
["IMPIANTI EVAC","mq"]
[null,{"$f":"Tutti!E15","v":0}]
["Valore unitario",10]
["V ",{"$f":"B20*B19*B1","v":0},{"$f":"Tutti!I15","v":0}]
["G",{"$f":"'Tabella 4'!P15","v":0.57719999999999994},{"$f":"'Tabella 4'!P14","v":0.34319999999999995}]
["P",{"$f":"IF(B21<25000,0.03+10/(25000^0.4),0.03+10/(B21^0.4))","v":0.20411011265922477},{"$f":"IF(C21<25000,0.03+10/(25000^0.4),0.03+10/(C21^0.4))","v":0.20411011265922477},"no collaudo"]
["CP",{"$f":"B21*B22*B23*1.25","v":0},{"$f":"C21*B22*C23*1.25","v":0},{"$f":"B21*C22*B23*1.25","v":0},{"$f":"C21*C22*C23*1.25","v":0}]
[]
["G.ELETTROGENO","kVA"]
[null,{"$f":"Tutti!E19","v":0}]
[null,null,null,null,{"$f":"IF(B27<51,B27*400,IF(B27<101,(B27-50)*320+20000,IF(B27<201,(B27-100)*120+36000,99)))","v":0}]
["V ",{"$f":"MAX(E28,E29)*B1","v":0},{"$f":"Tutti!I19","v":0},null,{"$f":"IF(E28=99,48000+(B27-200)*110,0)","v":0}]
["G",{"$f":"'Tabella 4'!P10","v":0.37739999999999996},{"$f":"'Tabella 4'!P9","v":0.22439999999999996}]
["P",{"$f":"IF(B29<25000,0.03+10/(25000^0.4),0.03+10/(B29^0.4))","v":0.20411011265922477},{"$f":"IF(C29<25000,0.03+10/(25000^0.4),0.03+10/(C29^0.4))","v":0.20411011265922477},"no collaudo"]
["CP",{"$f":"B29*B30*B31*1.25","v":0},{"$f":"C29*B30*C31*1.25","v":0},{"$f":"B29*C30*B31*1.25","v":0},{"$f":"C29*C30*C31*1.25","v":0}]
[]
["IMPIANTI FV","kW"]
[null,{"$f":"Tutti!E23","v":0}]
["Valore unitario",600]
["V ",{"$f":"B35*B36*B1","v":0},{"$f":"Tutti!I23","v":0}]
["G",{"$f":"'Tabella 4'!P15","v":0.57719999999999994},{"$f":"'Tabella 4'!P14","v":0.34319999999999995}]
["P",{"$f":"IF(B37<25000,0.03+10/(25000^0.4),0.03+10/(B37^0.4))","v":0.20411011265922477},{"$f":"IF(C37<25000,0.03+10/(25000^0.4),0.03+10/(C37^0.4))","v":0.20411011265922477},"no collaudo"]
["CP",{"$f":"B37*B38*B39*1.25","v":0},{"$f":"C37*B38*C39*1.25","v":0},{"$f":"B37*C38*B39*1.25","v":0},{"$f":"C37*C38*C39*1.25","v":0}]

{"sheet":"Tabella 1","index":5,"n_rows":32,"n_cols":13,"rows_kept":32,"cut":false,"hidden":true,"merged":[[29,0,29,12],[28,1,28,9],[10,2,10,9],[11,2,11,9],[12,2,12,9],[3,0,12,0],[4,2,4,9],[5,2,5,9],[3,2,3,9],[6,2,6,9],[8,2,8,9],[9,2,9,9],[21,2,21,9],[22,2,22,9],[23,2,23,9],[24,2,24,9],[19,2,19,9],[13,2,13,9],[14,2,14,9],[15,2,15,9],[16,2,16,9],[17,2,17,9],[20,2,20,9],[18,2,18,9],[31,1,31,9],[0,0,0,12],[2,1,2,2],[3,10,12,10],[3,11,12,11],[3,12,12,12],[13,10,27,10],[13,11,27,11],[13,12,27,12],[25,2,25,9],[26,2,26,9],[27,2,27,9],[30,2,30,9],[13,0,27,0]]}
["Attività parziali"]
["Tabella 1. - Elenco prestazioni Fase 2 e relativo coefficiente Xi del CP compreso oneri DLVVF"]
["%","Passo ",null,null,null,null,null,null,null,null,"si/no\nsi=compresa","Xi","risultante"]
[0.5,"a)","controllo congruità dei progetti specifici antincendio rispetto al ProgettoVVF ",null,null,null,null,null,null,null,"si",0.5,0.5]
[null,"a.1) ","resistenza al fuoco strutture e compartimentazioni"]
[null,"a.2)","reazione al fuoco dei materiali, arredi, rivestimento "]
[null,"a.3) ","compartimentazioni, transiti impiantistici"]
[null,"a.4)","percorsi d’esodo, lunghezze Lcc e Les e Les omesso , larghezze, porte EI ecc."]
[null,"a.5) ","rete idranti, impianti automatici di spegnimento"]
[null,"a.6) ","IRAI, EVAC,FV"]
[null,"a.7)","EFC"]
[null,"a.8) ","Accessibilità VVF "]
[null,"a.9)","Impianti secondo 37/08"]
[0.5,"b)","controllo correttezza e completezza singoli progetti da a.1) sino a a.9) nella loro realizzazione conforme e con la puntuale verifica della corretta produzione, da parte degli installatori, di:",null,null,null,null,null,null,null,"si",0.5,0.5]
[null,"b.1)","tavola identificativa dei singoli elementi firmato da Progettista, installatore."]
[null,"b.2)","CERT.REI per tutti gli elementi con resistenza al fuoco completa degli allegati richiesti dal DM 3.8.2012."]
[null,"b.3)","DICH.PROD per tutti gli elementi antincendio [previsti ed installati secondo i progetti  da a.1) sino a a.9)] completa degli allegati richiesti dal DM 3.8.2012 e del DICH.POSA."]
[null,"b.4)","DICH.IMP. o CERT.IMP., o DI.CO. 37/08 per tutti gli impianti significativi ai fini antincendio completi di:"]
[null,null,"l’esatta tipologia dell’impianto, la sua destinazione e collocazione"]
[null,null,"l’uso previsto, iscrizione C.I.A.A e documento relativo;"]
[null,null,"nominativo, riferimenti progettista suoi certificati requisiti tecnici;"]
[null,null,"norme tecniche rispettate; "]
[null,null,"progetto esecutivo con tavole e relazione  a firma del progettista;"]
[null,null,"relazione contenente tipologia materiali impiegati e schede relative"]
[null,null,"schema impianto realizzato;"]
[null,null,"riferimento a precedenti dichiarazioni (Di.Co. o Di.Ri.) od altro;"]
[null,null,"tavole as built firmate dal progettista e dall’esecutore;"]
[null,null,"manuale d’uso e manutenzione"]
[1,"SOMMANO",null,null,null,null,null,null,null,null,null,1,1]
[]
[1,"c)","Redazione di collaudo di tutti gli interventi in modo da costituire la base conoscitiva con cui l’Asseveratore (potrebbe anche essere altro Professionista antincendio diverso dalla figura di DLVVF) potrà esprimersi sulla conformità dell’attività ai requisiti di prevenzione incendi e di sicurezza antincendio firmando il modello PIN 2.1. 2018 ASSEVERAZIONE.",null,null,null,null,null,null,null,"si",1,1]
[1,"SOMMANO",null,null,null,null,null,null,null,null,null,1,1]

{"sheet":"Tabella 2","index":6,"n_rows":16,"n_cols":4,"rows_kept":16,"cut":false,"hidden":true,"merged":[[1,0,1,3],[0,0,0,3],[3,3,15,3]]}
["Gradi di complessità"]
["Tabella 2. - Valori di G "]
["ATTIVITA'","G"]
["alberghi",1.2,"E.04","ID. DM 31.10.2013 n.143"]
["biblioteche",1.2,"E.13"]
["manutez. straordinaria",1.2,"E.21"]
["negozi",0.95,"E.03"]
["pensioni, residenze",0.95,"E.06"]
["hotel, residenze pregiate",1.2,"E.07"]
["sanità",1.3,"E.10"]
["strutture speciali",1.1499999999999999,"S.06"]
["uffici",1.2,"E.16"]
[]
["impianti EFC, G.Elettrogeni",0.85,"IA.02"]
["impianti IRAI,EVAC,FV",1.3,"IA.04"]
["impianti Idrici antincendio",0.8,"D.05"]

{"sheet":"Tabella 3","index":7,"n_rows":22,"n_cols":2,"rows_kept":22,"cut":false,"hidden":true,"merged":[]}
["impianti","Idranti (numero di attacchi autopompa + naspi + UNI 45 + UNI 70)"]
["impianti","Impianti Sprinkler (numero di impianti)"]
["impianti","Lama d'aqua diluvio"]
["impianti","Gruppi di pompaggio (numero di gruppi)"]
["impianti","Serbatoio idrico (numero di serbatoi)"]
["impianti","Impianto EVAC (numero di impianti)"]
[]
["impianti","Impianto rivelazione (numero di impianti)"]
["impianti","Impianto allarme incendio (già compreso nella rivelazione se presente)"]
[]
["Protezione passiva","compartimentazione pareti"]
["Protezione passiva","compartimentazione orizzontale soffitto"]
["Protezione passiva","compartimentazione orizzontale pavimento"]
["Protezione passiva","Porte Tagliafuoco"]
["Protezione passiva","Sigillatura transiti impiantistici, collari ecc."]
["Protezione attiva","Serranda TF (numero di elementi)"]
[null,"Porte a chiusura automatica sotto IRAI  (numero di porte)"]
[]
[null,"Altro impianto (rivelazione gas, efc, ecc..) (numero di impianti)"]
[null,"Gruppo elettrogeno ai fini antincendio (numero di gruppi)"]
[]
[null,"Protezione passiva elemento portante  (numero di elementi)"]

{"sheet":"Tabella 4","index":8,"n_rows":53,"n_cols":16,"rows_kept":53,"cut":false,"hidden":true,"merged":[[50,1,50,15],[52,1,52,15],[45,1,45,15],[46,1,49,1],[46,3,46,10],[47,3,47,10],[48,3,48,10],[49,3,49,10],[38,1,38,15],[39,1,44,1],[39,3,39,10],[40,3,40,10],[41,3,41,10],[42,3,42,10],[43,3,43,10],[44,3,44,10],[30,1,37,1],[30,3,30,10],[31,3,31,10],[32,3,32,10],[33,3,33,10],[34,3,34,10],[35,3,35,10],[36,3,36,10],[37,3,37,10],[29,1,29,15],[20,1,20,15],[21,1,23,1],[21,3,21,10],[22,3,22,10],[23,3,23,10],[24,1,24,15],[25,1,28,1],[25,3,25,10],[26,3,26,10],[27,3,27,10],[28,3,28,10],[15,1,15,15],[16,1,19,1],[16,3,16,10],[17,3,17,10],[18,3,18,10],[19,3,19,10],[10,1,10,15],[11,1,14,1],[11,3,11,10],[12,3,12,10],[13,3,13,10],[14,3,14,10],[1,1,1,15],[3,1,3,15],[4,1,4,15],[5,1,5,10],[6,1,9,1],[6,3,6,10],[7,3,7,10],[8,3,8,10],[9,3,9,10]]}
[]
[null,"DIREZIONE LAVORI ANTINCENDIO"]
[]
[null,"Parametro relativo alla specificità della prestazione"]
[null,"Tabella 3. - Specificità"]
[null,null,null,null,null,null,null,null,null,null,null,"G","Q DL","% Q DLVVF","Q DLVVF","risultante\nΣQDLVVF x G"]
[null,"DM\n17.6.2016","IA.02","Impianti EFC, G.Elettrogeni",null,null,null,null,null,null,null,0.85]
[null,null,"Qcl.01","direzione lavori",null,null,null,null,null,null,null,null,0.32,0.7,{"$f":"M8*N8","v":0.22399999999999998}]
[null,null,"Qcl.11","certificato regolare esecuzione",null,null,null,null,null,null,null,null,0.04,1,{"$f":"M9*N9","v":0.04},{"$f":"SUM(O8:O9)*L7","v":0.22439999999999996}]
[null,null,"Qdl.04","collaudo tecnico funzionale",null,null,null,null,null,null,null,null,0.18,1,0.18,{"$f":"SUM(O8:O10)*L7","v":0.37739999999999996}]
[]
[null,"DM\n17.6.2016","IA.04","Impianti IRAI,EVAC,FV",null,null,null,null,null,null,null,1.3]
[null,null,"Qcl.01","direzione lavori",null,null,null,null,null,null,null,null,0.32,0.7,{"$f":"M13*N13","v":0.22399999999999998}]
[null,null,"Qcl.11","certificato regolare esecuzione",null,null,null,null,null,null,null,null,0.04,1,{"$f":"M14*N14","v":0.04},{"$f":"SUM(O13:O14)*L12","v":0.34319999999999995}]
[null,null,"Qdl.04","collaudo tecnico funzionale",null,null,null,null,null,null,null,null,0.18,1,0.18,{"$f":"SUM(O13:O15)*L12","v":0.57719999999999994}]
[]
[null,"DM\n17.6.2016","DO.5","Impianti idrici antincendio",null,null,null,null,null,null,null,0.8]
[null,null,"Qcl.01","direzione lavori",null,null,null,null,null,null,null,null,0.32,0.7,{"$f":"M18*N18","v":0.22399999999999998}]
[null,null,"Qcl.11","certificato regolare esecuzione",null,null,null,null,null,null,null,null,0.04,1,{"$f":"M19*N19","v":0.04},{"$f":"SUM(O18:O19)*L17","v":0.21119999999999997}]
[null,null,"Qdl.04","collaudo tecnico funzionale",null,null,null,null,null,null,null,null,0.18,1,0.18,{"$f":"SUM(O18:O20)*L17","v":0.35519999999999996}]
[]
[null,"DM\n17.6.2016","S.06","Elementi strutturali e di compartimentazione passiva",null,null,null,null,null,null,null,1.1499999999999999]
[null,null,"Qcl.01","direzione lavori",null,null,null,null,null,null,null,null,0.38,0.7,{"$f":"M23*N23","v":0.26599999999999996}]
[null,null,"Qcl.11","certificato regolare esecuzione",null,null,null,null,null,null,null,null,0.04,1,{"$f":"M24*N24","v":0.04},{"$f":"SUM(O23:O24)*L22","v":0.35189999999999988}]
[]
[null,"DM\n17.6.2016","S.04","Elementi di compartimentazione attiva (serrande, porte automatiche ecc)",null,null,null,null,null,null,null,0.9]
[null,null,"Qcl.01","direzione lavori",null,null,null,null,null,null,null,null,0.32,0.7,{"$f":"M27*N27","v":0.22399999999999998}]
[null,null,"Qcl.11","certificato regolare esecuzione",null,null,null,null,null,null,null,null,0.04,1,{"$f":"M28*N28","v":0.04},{"$f":"SUM(O27:O28)*L26","v":0.23759999999999998}]
[null,null,"Qdl.04","collaudo tecnico funzionale",null,null,null,null,null,null,null,null,0.18,1,0.18,{"$f":"SUM(O27:O29)*L26","v":0.39959999999999996}]
[]
[null,"DM 17.6.2016",null,"Componenti reazione al fuoco"]
[null,null,"E.04","Alberghi"]
[null,null,"E.13","Biblioteca"]
[null,null,"E.21","Manutenzione straordinaria"]
[null,null,"E.07","Hotel"]
[null,null,"E.16","Uffici",null,null,null,null,null,null,null,1.2]
[null,null,"Qcl.01","direzione lavori",null,null,null,null,null,null,null,null,0.32,0.7,{"$f":"M37*N37","v":0.22399999999999998}]
[null,null,"Qcl.11","certificato regolare esecuzione",null,null,null,null,null,null,null,null,0.04,1,{"$f":"M38*N38","v":0.04},{"$f":"SUM(O37:O38)*L36","v":0.31679999999999992}]
[]
[null,"DM\n17.6.2016",null,"Componenti reazione al fuoco"]
[null,null,"E.02","Edifici civili"]
[null,null,"E.03","Negozi, supermercati"]
[null,null,"E.06","Pensioni, residenze",null,null,null,null,null,null,null,0.95]
[null,null,"Qcl.01","direzione lavori",null,null,null,null,null,null,null,null,0.32,0.7,{"$f":"M44*N44","v":0.22399999999999998}]
[null,null,"Qcl.11","certificato regolare esecuzione",null,null,null,null,null,null,null,null,0.04,1,{"$f":"M45*N45","v":0.04},{"$f":"SUM(O44:O45)*L43","v":0.25079999999999997}]
[]
[null,"DM\n17.6.2016",null,"Componenti reazione al fuoco"]
[null,null,"E.10","Sanità",null,null,null,null,null,null,null,1.3]
[null,null,"Qcl.01","direzione lavori",null,null,null,null,null,null,null,null,0.32,0.7,{"$f":"M49*N49","v":0.22399999999999998}]
[null,null,"Qcl.11","certificato regolare esecuzione",null,null,null,null,null,null,null,null,0.04,1,{"$f":"M50*N50","v":0.04},{"$f":"SUM(O49:O50)*L48","v":0.34319999999999995}]
[]
[]
[null,"Documento approvato nel 2023 dalla Commissione Sicurezza Antincendio dell’Ordine Ingegneri di Milano; approvato nel 2023 dalla Commissione Pareri dell'Ordine Ingegneri di Milano e adottato dal Consiglio Ordine Ingegneri di Milano  nella seduta del 17.1.2024.\t"]

{"sheet":"si-no","index":9,"n_rows":2,"n_cols":1,"rows_kept":2,"cut":false,"hidden":true,"merged":[]}
["si"]
["no"]